Package: procoil Version: 2.38.0 Command: rm -rf procoil.buildbin-libdir && mkdir procoil.buildbin-libdir && /Users/biocbuild/BBS/utils/build-universal.sh procoil_2.38.0.tar.gz /Library/Frameworks/R.framework/Resources/bin/R procoil.buildbin-libdir StartedAt: 2025-11-02 23:16:33 -0500 (Sun, 02 Nov 2025) EndedAt: 2025-11-02 23:16:44 -0500 (Sun, 02 Nov 2025) EllapsedTime: 11.2 seconds RetCode: 0 Status: OK PackageFile: procoil_2.38.0.tgz PackageFileSize: 1.596 MiB