Package: proDA Version: 1.23.0 Command: rm -rf proDA.buildbin-libdir && mkdir proDA.buildbin-libdir && /Users/biocbuild/BBS/utils/build-universal.sh proDA_1.23.0.tar.gz /Library/Frameworks/R.framework/Resources/bin/R proDA.buildbin-libdir StartedAt: 2025-10-24 23:14:39 -0400 (Fri, 24 Oct 2025) EndedAt: 2025-10-24 23:14:49 -0400 (Fri, 24 Oct 2025) EllapsedTime: 10.2 seconds RetCode: 0 Status: OK PackageFile: proDA_1.23.0.tgz PackageFileSize: 1.215 MiB