Package: proBAMr Version: 1.43.1 Command: /home/biocbuild/bbs-3.22-bioc/R/bin/R CMD build --keep-empty-dirs --no-resave-data --md5 proBAMr StartedAt: 2025-10-24 19:31:09 -0400 (Fri, 24 Oct 2025) EndedAt: 2025-10-24 19:32:20 -0400 (Fri, 24 Oct 2025) EllapsedTime: 71.0 seconds RetCode: 0 Status: OK PackageFile: proBAMr_1.43.1.tar.gz PackageFileSize: 815.5 KiB