Package: proBAMr Version: 1.44.0 Command: /Library/Frameworks/R.framework/Resources/bin/R CMD INSTALL proBAMr StartedAt: 2025-11-03 15:41:29 -0500 (Mon, 03 Nov 2025) EndedAt: 2025-11-03 15:42:17 -0500 (Mon, 03 Nov 2025) EllapsedTime: 48.7 seconds RetCode: 0 Status: OK