Package: proBAMr Version: 1.44.0 Command: rm -rf proBAMr.buildbin-libdir && mkdir proBAMr.buildbin-libdir && /Users/biocbuild/BBS/utils/build-universal.sh proBAMr_1.44.0.tar.gz /Library/Frameworks/R.framework/Resources/bin/R proBAMr.buildbin-libdir StartedAt: 2025-11-03 01:57:02 -0500 (Mon, 03 Nov 2025) EndedAt: 2025-11-03 01:57:54 -0500 (Mon, 03 Nov 2025) EllapsedTime: 51.9 seconds RetCode: 0 Status: OK PackageFile: proBAMr_1.44.0.tgz PackageFileSize: 525.1 KiB