Package: proBAMr Version: 1.43.1 Command: /Library/Frameworks/R.framework/Resources/bin/R CMD build --keep-empty-dirs --no-resave-data proBAMr StartedAt: 2025-10-27 17:22:42 -0400 (Mon, 27 Oct 2025) EndedAt: 2025-10-27 17:23:17 -0400 (Mon, 27 Oct 2025) EllapsedTime: 34.4 seconds RetCode: 0 Status: OK PackageFile: proBAMr_1.43.1.tar.gz PackageFileSize: 814.1 KiB