Package: proBAMr Version: 1.43.1 Command: rm -rf proBAMr.buildbin-libdir && mkdir proBAMr.buildbin-libdir && /Users/biocbuild/BBS/utils/build-universal.sh proBAMr_1.43.1.tar.gz /Library/Frameworks/R.framework/Resources/bin/R proBAMr.buildbin-libdir StartedAt: 2025-10-26 22:44:33 -0400 (Sun, 26 Oct 2025) EndedAt: 2025-10-26 22:44:48 -0400 (Sun, 26 Oct 2025) EllapsedTime: 15.3 seconds RetCode: 0 Status: OK PackageFile: proBAMr_1.43.1.tgz PackageFileSize: 525.6 KiB