Package: proActiv Version: 1.19.3 Command: /home/biocbuild/bbs-3.22-bioc/R/bin/R CMD INSTALL proActiv StartedAt: 2025-10-24 15:50:30 -0400 (Fri, 24 Oct 2025) EndedAt: 2025-10-24 15:51:10 -0400 (Fri, 24 Oct 2025) EllapsedTime: 40.6 seconds RetCode: 0 Status: OK