Package: proActiv Version: 1.19.3 Command: /home/biocbuild/bbs-3.22-bioc/R/bin/R CMD build --keep-empty-dirs --no-resave-data --md5 proActiv StartedAt: 2025-10-24 19:31:06 -0400 (Fri, 24 Oct 2025) EndedAt: 2025-10-24 19:32:10 -0400 (Fri, 24 Oct 2025) EllapsedTime: 64.0 seconds RetCode: 0 Status: OK PackageFile: proActiv_1.19.3.tar.gz PackageFileSize: 2.67 MiB