Package: primirTSS Version: 1.27.0 Command: /home/biocbuild/bbs-3.22-bioc/R/bin/R CMD INSTALL primirTSS StartedAt: 2025-10-24 16:02:56 -0400 (Fri, 24 Oct 2025) EndedAt: 2025-10-24 16:03:39 -0400 (Fri, 24 Oct 2025) EllapsedTime: 42.4 seconds RetCode: 0 Status: OK