Package: preprocessCore Version: 1.71.2 Command: /home/biocbuild/R/R/bin/R CMD INSTALL preprocessCore StartedAt: 2025-10-23 20:29:41 -0000 (Thu, 23 Oct 2025) EndedAt: 2025-10-23 20:29:56 -0000 (Thu, 23 Oct 2025) EllapsedTime: 14.7 seconds RetCode: 0 Status: OK