Package: preprocessCore Version: 1.71.2 Command: /Library/Frameworks/R.framework/Resources/bin/R CMD INSTALL preprocessCore StartedAt: 2025-10-27 15:11:38 -0400 (Mon, 27 Oct 2025) EndedAt: 2025-10-27 15:12:00 -0400 (Mon, 27 Oct 2025) EllapsedTime: 22.4 seconds RetCode: 0 Status: OK