Package: preprocessCore Version: 1.71.2 Command: /Library/Frameworks/R.framework/Resources/bin/R CMD INSTALL preprocessCore StartedAt: 2025-10-24 15:09:06 -0400 (Fri, 24 Oct 2025) EndedAt: 2025-10-24 15:09:13 -0400 (Fri, 24 Oct 2025) EllapsedTime: 7.6 seconds RetCode: 0 Status: OK