Package: preprocessCore Version: 1.71.2 Command: /Library/Frameworks/R.framework/Resources/bin/R CMD check --install=check:preprocessCore.install-out.txt --library=/Library/Frameworks/R.framework/Resources/library --no-vignettes --timings preprocessCore_1.71.2.tar.gz StartedAt: 2025-10-24 21:25:57 -0400 (Fri, 24 Oct 2025) EndedAt: 2025-10-24 21:26:08 -0400 (Fri, 24 Oct 2025) EllapsedTime: 11.1 seconds RetCode: 0 Status: WARNINGS CheckDir: preprocessCore.Rcheck Warnings: 2