Package: preprocessCore Version: 1.71.2 Command: /Library/Frameworks/R.framework/Resources/bin/R CMD build --keep-empty-dirs --no-resave-data preprocessCore StartedAt: 2025-10-24 17:23:54 -0400 (Fri, 24 Oct 2025) EndedAt: 2025-10-24 17:23:55 -0400 (Fri, 24 Oct 2025) EllapsedTime: 1.0 seconds RetCode: 0 Status: OK PackageFile: preprocessCore_1.71.2.tar.gz PackageFileSize: 124.9 KiB