Package: preprocessCore Version: 1.71.2 Command: rm -rf preprocessCore.buildbin-libdir && mkdir preprocessCore.buildbin-libdir && /Users/biocbuild/BBS/utils/build-universal.sh preprocessCore_1.71.2.tar.gz /Library/Frameworks/R.framework/Resources/bin/R preprocessCore.buildbin-libdir StartedAt: 2025-10-24 23:14:33 -0400 (Fri, 24 Oct 2025) EndedAt: 2025-10-24 23:14:41 -0400 (Fri, 24 Oct 2025) EllapsedTime: 8.1 seconds RetCode: 0 Status: OK PackageFile: preprocessCore_1.71.2.tgz PackageFileSize: 162.8 KiB