Package: preciseTAD Version: 1.19.0 Command: /home/biocbuild/bbs-3.22-bioc/R/bin/R CMD check --install=check:preciseTAD.install-out.txt --library=/home/biocbuild/bbs-3.22-bioc/R/site-library --timings preciseTAD_1.19.0.tar.gz StartedAt: 2025-10-25 02:54:21 -0400 (Sat, 25 Oct 2025) EndedAt: 2025-10-25 03:07:55 -0400 (Sat, 25 Oct 2025) EllapsedTime: 813.8 seconds RetCode: 0 Status: OK CheckDir: preciseTAD.Rcheck Warnings: 0