Package: preciseTAD Version: 1.19.0 Command: /home/biocbuild/bbs-3.22-bioc/R/bin/R CMD build --keep-empty-dirs --no-resave-data --md5 preciseTAD StartedAt: 2025-10-24 19:30:18 -0400 (Fri, 24 Oct 2025) EndedAt: 2025-10-24 19:34:11 -0400 (Fri, 24 Oct 2025) EllapsedTime: 233.2 seconds RetCode: 0 Status: OK PackageFile: preciseTAD_1.19.0.tar.gz PackageFileSize: 4.107 MiB