Package: preciseTAD Version: 1.19.0 Command: /Library/Frameworks/R.framework/Resources/bin/R CMD build --keep-empty-dirs --no-resave-data preciseTAD StartedAt: 2025-10-27 17:22:21 -0400 (Mon, 27 Oct 2025) EndedAt: 2025-10-27 17:24:49 -0400 (Mon, 27 Oct 2025) EllapsedTime: 147.8 seconds RetCode: 0 Status: OK PackageFile: preciseTAD_1.19.0.tar.gz PackageFileSize: 4.073 MiB