Package: prebs Version: 1.50.0 Command: /home/biocbuild/bbs-3.22-bioc/R/bin/R CMD INSTALL prebs StartedAt: 2025-11-14 15:27:56 -0500 (Fri, 14 Nov 2025) EndedAt: 2025-11-14 15:28:32 -0500 (Fri, 14 Nov 2025) EllapsedTime: 36.6 seconds RetCode: 0 Status: OK