Package: pram Version: 1.25.1 Command: /home/biocbuild/bbs-3.22-bioc/R/bin/R CMD INSTALL pram StartedAt: 2025-10-24 15:37:21 -0400 (Fri, 24 Oct 2025) EndedAt: 2025-10-24 15:37:52 -0400 (Fri, 24 Oct 2025) EllapsedTime: 31.6 seconds RetCode: 0 Status: OK