Package: powerTCR Version: 1.30.0 Command: /home/biocbuild/R/R/bin/R CMD INSTALL powerTCR StartedAt: 2025-11-13 21:08:52 -0000 (Thu, 13 Nov 2025) EndedAt: 2025-11-13 21:10:08 -0000 (Thu, 13 Nov 2025) EllapsedTime: 76.2 seconds RetCode: 0 Status: OK