Package: powerTCR Version: 1.29.0 Command: /Library/Frameworks/R.framework/Resources/bin/R CMD INSTALL powerTCR StartedAt: 2025-10-27 15:06:43 -0400 (Mon, 27 Oct 2025) EndedAt: 2025-10-27 15:07:56 -0400 (Mon, 27 Oct 2025) EllapsedTime: 73.6 seconds RetCode: 0 Status: OK