Package: powerTCR Version: 1.29.0 Command: /Library/Frameworks/R.framework/Resources/bin/R CMD build --keep-empty-dirs --no-resave-data powerTCR StartedAt: 2025-10-24 18:17:31 -0400 (Fri, 24 Oct 2025) EndedAt: 2025-10-24 18:18:03 -0400 (Fri, 24 Oct 2025) EllapsedTime: 31.9 seconds RetCode: 0 Status: OK PackageFile: powerTCR_1.29.0.tar.gz PackageFileSize: 385.2 KiB