Package: powerTCR Version: 1.29.0 Command: rm -rf powerTCR.buildbin-libdir && mkdir powerTCR.buildbin-libdir && /Users/biocbuild/BBS/utils/build-universal.sh powerTCR_1.29.0.tar.gz /Library/Frameworks/R.framework/Resources/bin/R powerTCR.buildbin-libdir StartedAt: 2025-10-25 01:56:14 -0400 (Sat, 25 Oct 2025) EndedAt: 2025-10-25 01:56:28 -0400 (Sat, 25 Oct 2025) EllapsedTime: 13.8 seconds RetCode: 0 Status: OK PackageFile: powerTCR_1.29.0.tgz PackageFileSize: 466.6 KiB