Package: podkat Version: 1.41.1 Command: /home/biocbuild/bbs-3.22-bioc/R/bin/R CMD INSTALL podkat StartedAt: 2025-10-24 15:38:54 -0400 (Fri, 24 Oct 2025) EndedAt: 2025-10-24 15:40:07 -0400 (Fri, 24 Oct 2025) EllapsedTime: 72.9 seconds RetCode: 0 Status: OK