Package: podkat Version: 1.41.1 Command: /home/biocbuild/bbs-3.22-bioc/R/bin/R CMD build --keep-empty-dirs --no-resave-data --md5 podkat StartedAt: 2025-10-27 19:20:42 -0400 (Mon, 27 Oct 2025) EndedAt: 2025-10-27 19:23:07 -0400 (Mon, 27 Oct 2025) EllapsedTime: 145.1 seconds RetCode: 0 Status: OK PackageFile: podkat_1.41.1.tar.gz PackageFileSize: 1.093 MiB