Package: podkat Version: 1.42.0 Command: /Library/Frameworks/R.framework/Resources/bin/R CMD INSTALL podkat StartedAt: 2025-11-03 15:17:08 -0500 (Mon, 03 Nov 2025) EndedAt: 2025-11-03 15:17:33 -0500 (Mon, 03 Nov 2025) EllapsedTime: 25.1 seconds RetCode: 0 Status: OK