Package: podkat Version: 1.42.0 Command: /Library/Frameworks/R.framework/Resources/bin/R CMD build --keep-empty-dirs --no-resave-data podkat StartedAt: 2025-11-03 17:22:05 -0500 (Mon, 03 Nov 2025) EndedAt: 2025-11-03 17:23:09 -0500 (Mon, 03 Nov 2025) EllapsedTime: 63.7 seconds RetCode: 0 Status: OK PackageFile: podkat_1.42.0.tar.gz PackageFileSize: 1.09 MiB