Package: podkat Version: 1.42.0 Command: rm -rf podkat.buildbin-libdir && mkdir podkat.buildbin-libdir && /Users/biocbuild/BBS/utils/build-universal.sh podkat_1.42.0.tar.gz /Library/Frameworks/R.framework/Resources/bin/R podkat.buildbin-libdir StartedAt: 2025-11-02 23:16:12 -0500 (Sun, 02 Nov 2025) EndedAt: 2025-11-02 23:16:39 -0500 (Sun, 02 Nov 2025) EllapsedTime: 27.5 seconds RetCode: 0 Status: OK PackageFile: podkat_1.42.0.tgz PackageFileSize: 2.462 MiB