Package: pmp Version: 1.22.0 Command: /home/biocbuild/bbs-3.22-bioc/R/bin/R CMD INSTALL pmp StartedAt: 2025-11-06 16:02:37 -0500 (Thu, 06 Nov 2025) EndedAt: 2025-11-06 16:03:02 -0500 (Thu, 06 Nov 2025) EllapsedTime: 25.5 seconds RetCode: 0 Status: OK