Package: pmp Version: 1.22.0 Command: /home/biocbuild/bbs-3.22-bioc/R/bin/R CMD build --keep-empty-dirs --no-resave-data --md5 pmp StartedAt: 2025-11-06 19:20:12 -0500 (Thu, 06 Nov 2025) EndedAt: 2025-11-06 19:21:37 -0500 (Thu, 06 Nov 2025) EllapsedTime: 85.1 seconds RetCode: 0 Status: OK PackageFile: pmp_1.22.0.tar.gz PackageFileSize: 4.878 MiB