Package: pmm Version: 1.42.0 Command: /Library/Frameworks/R.framework/Resources/bin/R CMD INSTALL pmm StartedAt: 2025-11-03 15:06:05 -0500 (Mon, 03 Nov 2025) EndedAt: 2025-11-03 15:06:12 -0500 (Mon, 03 Nov 2025) EllapsedTime: 7.5 seconds RetCode: 0 Status: OK