Package: pmm Version: 1.42.0 Command: rm -rf pmm.buildbin-libdir && mkdir pmm.buildbin-libdir && /Users/biocbuild/BBS/utils/build-universal.sh pmm_1.42.0.tar.gz /Library/Frameworks/R.framework/Resources/bin/R pmm.buildbin-libdir StartedAt: 2025-10-31 23:18:20 -0400 (Fri, 31 Oct 2025) EndedAt: 2025-10-31 23:18:23 -0400 (Fri, 31 Oct 2025) EllapsedTime: 3.1 seconds RetCode: 0 Status: OK PackageFile: pmm_1.42.0.tgz PackageFileSize: 810.6 KiB