Package: plyxp Version: 1.3.11 Command: /home/biocbuild/bbs-3.22-bioc/R/bin/R CMD INSTALL plyxp StartedAt: 2025-10-24 15:28:07 -0400 (Fri, 24 Oct 2025) EndedAt: 2025-10-24 15:28:32 -0400 (Fri, 24 Oct 2025) EllapsedTime: 25.4 seconds RetCode: 0 Status: OK