Package: plyranges Version: 1.29.1 Command: /home/biocbuild/bbs-3.22-bioc/R/bin/R CMD INSTALL plyranges StartedAt: 2025-10-24 15:43:39 -0400 (Fri, 24 Oct 2025) EndedAt: 2025-10-24 15:44:14 -0400 (Fri, 24 Oct 2025) EllapsedTime: 35.3 seconds RetCode: 0 Status: OK