Package: plotgardener Version: 1.15.1 Command: /Library/Frameworks/R.framework/Resources/bin/R CMD INSTALL plotgardener StartedAt: 2025-10-24 15:40:18 -0400 (Fri, 24 Oct 2025) EndedAt: 2025-10-24 15:41:25 -0400 (Fri, 24 Oct 2025) EllapsedTime: 66.8 seconds RetCode: 0 Status: OK