Package: plotgardener Version: 1.15.1 Command: /Library/Frameworks/R.framework/Resources/bin/R CMD build --keep-empty-dirs --no-resave-data plotgardener StartedAt: 2025-10-24 18:16:33 -0400 (Fri, 24 Oct 2025) EndedAt: 2025-10-24 18:17:54 -0400 (Fri, 24 Oct 2025) EllapsedTime: 81.0 seconds RetCode: 0 Status: OK PackageFile: plotgardener_1.15.1.tar.gz PackageFileSize: 2.85 MiB