Package: plotgardener Version: 1.15.1 Command: /Library/Frameworks/R.framework/Resources/bin/R CMD INSTALL plotgardener StartedAt: 2025-10-26 15:18:24 -0400 (Sun, 26 Oct 2025) EndedAt: 2025-10-26 15:18:43 -0400 (Sun, 26 Oct 2025) EllapsedTime: 19.4 seconds RetCode: 0 Status: OK