Package: plotgardener Version: 1.15.1 Command: /Library/Frameworks/R.framework/Resources/bin/R CMD build --keep-empty-dirs --no-resave-data plotgardener StartedAt: 2025-10-26 17:33:24 -0400 (Sun, 26 Oct 2025) EndedAt: 2025-10-26 17:33:50 -0400 (Sun, 26 Oct 2025) EllapsedTime: 26.3 seconds RetCode: 0 Status: OK PackageFile: plotgardener_1.15.1.tar.gz PackageFileSize: 2.85 MiB