Package: plotGrouper Version: 1.27.0 Command: /home/biocbuild/bbs-3.22-bioc/R/bin/R CMD INSTALL plotGrouper StartedAt: 2025-10-24 15:20:09 -0400 (Fri, 24 Oct 2025) EndedAt: 2025-10-24 15:20:19 -0400 (Fri, 24 Oct 2025) EllapsedTime: 9.8 seconds RetCode: 0 Status: OK