Package: plotGrouper Version: 1.27.0 Command: /Library/Frameworks/R.framework/Resources/bin/R CMD INSTALL plotGrouper StartedAt: 2025-10-24 15:19:22 -0400 (Fri, 24 Oct 2025) EndedAt: 2025-10-24 15:19:44 -0400 (Fri, 24 Oct 2025) EllapsedTime: 22.4 seconds RetCode: 0 Status: OK