Package: plotGrouper Version: 1.27.0 Command: /Library/Frameworks/R.framework/Resources/bin/R CMD INSTALL plotGrouper StartedAt: 2025-10-24 15:08:08 -0400 (Fri, 24 Oct 2025) EndedAt: 2025-10-24 15:08:12 -0400 (Fri, 24 Oct 2025) EllapsedTime: 4.3 seconds RetCode: 0 Status: OK