Package: plgem Version: 1.81.0 Command: /home/biocbuild/bbs-3.22-bioc/R/bin/R CMD build --keep-empty-dirs --no-resave-data --md5 plgem StartedAt: 2025-10-24 19:27:55 -0400 (Fri, 24 Oct 2025) EndedAt: 2025-10-24 19:28:09 -0400 (Fri, 24 Oct 2025) EllapsedTime: 14.0 seconds RetCode: 0 Status: OK PackageFile: plgem_1.81.0.tar.gz PackageFileSize: 1.037 MiB