Package: plasmut Version: 1.8.0 Command: /Library/Frameworks/R.framework/Resources/bin/R CMD INSTALL plasmut StartedAt: 2025-11-06 15:05:47 -0500 (Thu, 06 Nov 2025) EndedAt: 2025-11-06 15:05:51 -0500 (Thu, 06 Nov 2025) EllapsedTime: 4.4 seconds RetCode: 0 Status: OK