Package: plasmut Version: 1.8.0 Command: /Library/Frameworks/R.framework/Resources/bin/R CMD build --keep-empty-dirs --no-resave-data plasmut StartedAt: 2025-11-06 17:21:19 -0500 (Thu, 06 Nov 2025) EndedAt: 2025-11-06 17:22:19 -0500 (Thu, 06 Nov 2025) EllapsedTime: 60.7 seconds RetCode: 0 Status: OK PackageFile: plasmut_1.8.0.tar.gz PackageFileSize: 347.1 KiB