Package: plasmut Version: 1.8.0 Command: rm -rf plasmut.buildbin-libdir && mkdir plasmut.buildbin-libdir && /Users/biocbuild/BBS/utils/build-universal.sh plasmut_1.8.0.tar.gz /Library/Frameworks/R.framework/Resources/bin/R plasmut.buildbin-libdir StartedAt: 2025-11-06 23:16:17 -0500 (Thu, 06 Nov 2025) EndedAt: 2025-11-06 23:16:19 -0500 (Thu, 06 Nov 2025) EllapsedTime: 2.1 seconds RetCode: 0 Status: OK PackageFile: plasmut_1.8.0.tgz PackageFileSize: 361.4 KiB