Package: planet Version: 1.17.0 Command: /Library/Frameworks/R.framework/Resources/bin/R CMD INSTALL planet StartedAt: 2025-10-24 15:08:01 -0400 (Fri, 24 Oct 2025) EndedAt: 2025-10-24 15:08:04 -0400 (Fri, 24 Oct 2025) EllapsedTime: 3.2 seconds RetCode: 0 Status: OK