Package: planet Version: 1.17.0 Command: /Library/Frameworks/R.framework/Resources/bin/R CMD build --keep-empty-dirs --no-resave-data planet StartedAt: 2025-10-24 17:22:16 -0400 (Fri, 24 Oct 2025) EndedAt: 2025-10-24 17:22:39 -0400 (Fri, 24 Oct 2025) EllapsedTime: 23.3 seconds RetCode: 0 Status: OK PackageFile: planet_1.17.0.tar.gz PackageFileSize: 2.859 MiB