Package: pipeFrame Version: 1.25.1 Command: /Library/Frameworks/R.framework/Resources/bin/R CMD INSTALL pipeFrame StartedAt: 2025-10-24 15:57:34 -0400 (Fri, 24 Oct 2025) EndedAt: 2025-10-24 15:58:17 -0400 (Fri, 24 Oct 2025) EllapsedTime: 43.7 seconds RetCode: 0 Status: OK